{"text_format":"1","workbook":"xlsx","n_sheets":5,"sheets":["届出者記入シート","届出者記入シート (凡例)","第６号様式－１","第６号様式－２","－"],"not_rendered":{"charts":0,"images":0,"macros":1,"external_links":0,"defined_names":4,"comments":0,"pivot_tables":0},"unopened":[],"bounds":{"document_bytes":16777216,"sheet_cells":100000,"rows_first":2000,"rows_last":500,"rows_between":2000,"halvings":0,"cell_chars":16384,"cell_head_chars":4096},"cells_cut":0,"cells_raw":0,"read":"whole","date_system":"1900"}

{"sheet":"届出者記入シート","index":0,"n_rows":30,"n_cols":7,"rows_kept":30,"cut":false,"hidden":false,"merged":[[30,0,33,6]]}
[]
["準拠する文化財保護法の条文",null,"プルダウンより選択",null,{"$f":"_xlfn.IFS(C2=\"第９３条\",\"届出\",C2=\"第９４条\",\"通知\",C2=\"プルダウンより選択\",\"　　　　\")","v":"　　　　"}]
["文書番号（ある場合のみ記入）",null,"（文書番号）"]
["届出日・通知日",null,"令和○年○月○日"]
[]
["１．届出地・届出者の情報"]
["　１－１　届出者のお名前"]
["　１－２　届出者のご住所"]
["　１－３　届出する所在地"]
["　１－４　事業面積"]
["　１－５　土地所有者のお名前"]
["　１－６　土地所有者のご住所"]
["　１－７　土地の現状",null,"プルダウンより選択"]
["　１－８　工事の目的\n　　　　（複数ある場合は主要な１種のみ選択）",null,"プルダウンより選択"]
["　１－９　工事の概要"]
["　１－10　工事主体者のお名前"]
["　１－11　工事主体者のご住所"]
["　１－12　施行責任者のお名前"]
["　１－13　施行責任者のご住所"]
["　１－14　着手時期"]
["　１－15　終了時期"]
[]
["２．兵庫県遺跡地図に則る遺跡の種別"]
["　２－１　遺跡の名称"]
["　２－２　遺跡の員数"]
["　２－３　遺跡の種類（複数選択可）",1,"－",2,"－",3,"－"]
["　２－４　遺跡の時代（複数選択可）",1,"－",2,"－",3,"－"]
[null,4,"－",5,"－",6,"－"]
[]
["３．参考事項"]

{"sheet":"届出者記入シート (凡例)","index":1,"n_rows":30,"n_cols":7,"rows_kept":30,"cut":false,"hidden":false,"merged":[[30,0,33,6]]}
[]
["準拠する文化財保護法の条文",null,"プルダウンより選択",null,{"$f":"_xlfn.IFS(C2=\"第９３条\",\"届出\",C2=\"第９４条\",\"通知\",C2=\"プルダウンより選択\",\"　　　　\")","v":"　　　　"}]
["文書番号（ある場合のみ記入）",null,"（文書番号）"]
["届出日・通知日",null,"令和〇年〇月〇日"]
[]
["１．届出地・届出者の情報"]
["　１－１　届出者のお名前"]
["　１－２　届出者のご住所"]
["　１－３　届出する所在地"]
["　１－４　事業面積"]
["　１－５　土地所有者のお名前"]
["　１－６　土地所有者のご住所"]
["　１－７　土地の現状",null,"プルダウンより選択"]
["　１－８　工事の目的\n　　　　（複数ある場合は主要な１種のみ選択）",null,"プルダウンより選択"]
["　１－９　工事の概要"]
["　１－10　工事主体者のお名前"]
["　１－11　工事主体者のご住所"]
["　１－12　施行責任者のお名前"]
["　１－13　施行責任者のご住所"]
["　１－14　着手時期"]
["　１－15　終了時期"]
[]
["２．兵庫県遺跡地図に則る遺跡の種別"]
["　２－１　遺跡の名称"]
["　２－２　遺跡の員数"]
["　２－３　遺跡の種類（複数選択可）",1,"－",2,"－",3,"－"]
["　２－４　遺跡の時代（複数選択可）",1,"－",2,"－",3,"－"]
[null,4,"－",5,"－",6,"－"]
[]
["３．参考事項"]

{"sheet":"第６号様式－１","index":2,"n_rows":36,"n_cols":8,"rows_kept":36,"cut":false,"hidden":false,"merged":[[20,3,20,7],[18,2,18,3],[27,0,28,1],[35,4,35,5],[35,6,35,7],[21,2,21,3],[21,4,21,5],[21,6,21,7],[25,2,25,7],[23,2,23,7],[26,2,26,7],[30,3,30,7],[31,0,31,1],[32,0,32,1],[31,4,31,5],[27,3,27,7],[28,3,28,7],[29,0,30,1],[29,3,29,7],[31,2,31,3],[31,6,31,7],[32,2,32,7],[10,0,10,7],[4,4,6,4],[7,4,8,4],[26,0,26,1],[12,0,15,7],[17,0,17,1],[18,0,18,1],[19,0,20,1],[21,0,21,1],[22,0,22,1],[23,0,23,1],[24,0,24,1],[25,0,25,1],[22,2,22,5],[17,2,17,7],[19,3,19,7],[0,5,0,7],[1,5,1,7],[2,0,2,1],[4,5,6,7],[7,5,8,7]]}
[null,null,null,null,null,{"$f":"届出者記入シート!C3","v":"（文書番号）"}]
[null,null,null,null,"　",{"$f":"届出者記入シート!C4","v":"令和○年○月○日"}]
["兵庫県教育長　様"]
[]
[null,null,null,null,"住　所：",{"$f":"届出者記入シート!C8","v":0}]
[]
[]
[null,null,null,null,"氏名等：",{"$f":"届出者記入シート!C7","v":0}]
[]
[]
[{"$f":"CONCATENATE(\"埋蔵文化財発掘調査\",届出者記入シート!E2,\"について\")","v":"埋蔵文化財発掘調査　　　　について"}]
[]
[{"$f":"CONCATENATE(\"　周知の埋蔵文化財包蔵地において土木工事等のための発掘調査を実施したいので、文化財保護法（昭和25年法律第214号）\",届出者記入シート!C2,\"の規定により、関係書類を添付し、下記のとおり\",届出者記入シート!E2,\"します。\")","v":"　周知の埋蔵文化財包蔵地において土木工事等のための発掘調査を実施したいので、文化財保護法（昭和25年法律第214号）プルダウンより選択の規定により、関係書類を添付し、下記のとおり　　　　します。"}]
[]
[]
[]
[]
["１　　所　在　地",null,{"$f":"届出者記入シート!C9","v":0}]
["２　　面　　　積",null,{"$f":"届出者記入シート!C10","v":0}]
["３　　土地所有者",null,"氏名等：",{"$f":"届出者記入シート!C11","v":0}]
[null,null,"住　所：",{"$f":"届出者記入シート!C12","v":0}]
["４　　遺跡の種類",null,{"$f":"届出者記入シート!C26","v":"－"},null,{"$f":"届出者記入シート!E26","v":"－"},null,{"$f":"届出者記入シート!G26","v":"－"}]
["　　　遺跡の名称",null,{"$f":"届出者記入シート!C24","v":0},null,null,null,"員　数",{"$f":"届出者記入シート!C25","v":0}]
["　　　遺跡の現状",null,{"$f":"届出者記入シート!C13","v":"プルダウンより選択"}]
["　　　遺跡の時代",null,{"$f":"届出者記入シート!C27","v":"－"},{"$f":"届出者記入シート!E27","v":"－"},{"$f":"届出者記入シート!G27","v":"－"},{"$f":"届出者記入シート!C28","v":"－"},{"$f":"届出者記入シート!E28","v":"－"},{"$f":"届出者記入シート!G28","v":"－"}]
["５　　工事の目的",null,{"$f":"届出者記入シート!C14","v":"プルダウンより選択"}]
["　　　工事の概要",null,{"$f":"届出者記入シート!C15","v":0}]
["６　　工事主体者",null,"氏名等：",{"$f":"届出者記入シート!C16","v":0}]
[null,null,"住　所：",{"$f":"届出者記入シート!C17","v":0}]
["７　　施行責任者",null,"氏名等：",{"$f":"届出者記入シート!C18","v":0}]
[null,null,"住　所：",{"$f":"届出者記入シート!C19","v":0}]
["８　　着手時期",null,{"$f":"届出者記入シート!C20","v":"00:00:00"},null,"９　　終了時期",null,{"$f":"届出者記入シート!C21","v":"00:00:00"}]
["10　　参考事項",null,{"$f":"届出者記入シート!A31","v":0}]
[]
[]
[null,null,null,null,"指導事項"]

{"sheet":"第６号様式－２","index":3,"n_rows":60,"n_cols":11,"rows_kept":60,"cut":false,"hidden":true,"merged":[[19,2,19,3],[23,2,23,4],[23,5,23,9],[20,3,21,10],[34,2,34,3],[44,2,44,3],[46,2,46,3],[47,2,49,9],[26,3,28,10],[38,2,38,5],[35,2,35,3],[54,2,54,3],[59,2,59,4],[55,6,55,7],[58,6,58,8],[53,3,53,4],[55,4,55,5],[0,8,0,10],[1,8,1,10],[15,1,15,10],[7,1,8,10],[17,3,17,9],[2,1,2,3],[4,8,4,10],[10,1,12,10],[13,1,13,10]]}
[null,null,null,null,null,null,null,null,"（文書番号）"]
[null,null,null,null,null,null,null,null,"令和６年●月●日"]
[null,"兵庫県教育長　様"]
[]
[null,null,null,null,null,null,null,null,"市町　長"]
[]
[]
[null,{"$f":"CONCATENATE(\"埋蔵文化財発掘\",届出者記入シート!E2,\"書の送付について（進達）\")","v":"埋蔵文化財発掘　　　　書の送付について（進達）"}]
[]
[]
[null,{"$f":"CONCATENATE(\"　みだしのことについて、下記の者から文化財保護法\",届出者記入シート!C2,\"の規定により、発掘の\",届出者記入シート!E2,\"がありましたので進達します。\")","v":"　みだしのことについて、下記の者から文化財保護法プルダウンより選択の規定により、発掘の　　　　がありましたので進達します。"}]
[]
[]
[null,"　なお当該事業については、下記４のとおり指導する所存でありますので、よろしくお願いします。"]
[]
[null,"記"]
[]
[null,"１","届出者",{"$f":"'第６号様式－１'!F8","v":0}]
[]
[null,"２","事業の実施場所"]
[null,null,null,{"$f":"届出者記入シート!C9","v":0}]
[]
[]
[null,"３","周知の埋蔵文化財包蔵地",null,null,{"$f":"届出者記入シート!C24","v":0}]
[]
[null,"４","指導事項"]
[null,null,null,"内容選択"]
[]
[]
[]
[null,"５","事項理由"]
[]
[null,"A.","深度を根拠とする指導事項"]
[null,null,"基礎構造",null,null,"－"]
[null,null,"基礎深度(最大)",null,"GL-",null,"ｍ"]
[null,null,"その他深度（最大）",null,"GL-",null,"ｍ"]
[null,null,"盛土造成","有・無","GL+",null,"ｍ"]
[]
[null,null,"新規掘削はなく、既存建物の解体のみ",null,null,null,"無"]
[]
[null,"B.","工事規模（幅員）を根拠とする指導事項"]
[null,null,"掘削幅",null,"ｍ"]
[]
[null,"C.","改良率・面積率を根拠とする指導事項"]
[null,null,"建築面積に対して",null,null,"％"]
[]
[null,"D.","その他の根拠"]
[]
[]
[]
[]
[null,"６","試掘・確認調査結果"]
[]
[null,"1.","調査原因","－"]
[null,"2.","埋蔵文化財の有無",null,"有・無"]
[null,null,null,null,"→有の場合",null,"遺構",null,"有・無"]
[null,null,null,null,null,null,"遺物包含層",null,"有・無"]
[null,null,null,null,null,null,"遺物",null,"有・無"]
[null,null,null,null,null,null,"遺構・遺物包含層確認深度",null,null,null,"ｍ"]
[null,"3.","地山・基盤層確認深度",null,null,null,"ｍ"]

{"sheet":"－","index":4,"n_rows":12,"n_cols":1,"rows_kept":12,"cut":false,"hidden":true,"merged":[]}
[]
["内容選択"]
["本発掘調査（１）\n工事により埋蔵文化財が掘削され、破壊される場合"]
["本発掘調査（２）\n掘削が埋蔵文化財に直接及ばない場合であっても、工事によって地下の埋蔵文化財に影響を及ぼすおそれのある場合"]
["本発掘調査（３）\n一時的な盛土や工作物の設置の場合で、その重さによって地下の埋蔵文化財に影響を及ぼすおそれのある場合"]
["本発掘調査（４）\n恒久的な工作物の設置により相当期間にわたり埋蔵文化財と人との関係が絶たれ、当該埋蔵文化財が損壊したに等しい状態になる場合"]
["工事立会（１）\n工事区域が狭小で、安全上、通常の発掘調査の実施が著しく困難な場合"]
["工事立会（２）\n既に行われた土木工事等の規模・構造を大きく改変しない場合"]
["慎重工事（１）\n既に行われた土木工事等により、埋蔵文化財が損壊を受けた範囲内で工事が実施される場合で、埋蔵文化財に影響のない場合"]
["慎重工事（２）\n工事による掘削が遺構等を損壊しない場合"]
["慎重工事（３）\n工事により埋蔵文化財に影響を及ぼすおそれのない場合"]
["慎重工事（４）\n試掘・確認調査により遺構・遺物が確認されなかった場合"]